BEGIN:VCALENDAR
VERSION:2.0
PRODID:-//windsister.de//NONSGML kigkonsult.se iCalcreator 2.30.10//
CALSCALE:GREGORIAN
METHOD:PUBLISH
UID:5dd2c87e-9abc-4295-a571-fb1c0b5e0683
X-WR-CALNAME:iCagenda
X-WR-CALDESC:Event Management Extension for Joomla!
X-WR-RELCALID:3E26604A-50F4-4449-8B3E-E4F4932D05B5
X-WR-TIMEZONE:Europe/Berlin
BEGIN:VTIMEZONE
TZID:Europe/Berlin
BEGIN:STANDARD
TZNAME:CET
DTSTART:20241027T030000
TZOFFSETFROM:+0200
TZOFFSETTO:+0100
RDATE:20251026T030000
RDATE:20261025T030000
END:STANDARD
BEGIN:DAYLIGHT
TZNAME:CEST
DTSTART:20250330T020000
TZOFFSETFROM:+0100
TZOFFSETTO:+0200
RDATE:20260329T020000
END:DAYLIGHT
END:VTIMEZONE
BEGIN:VEVENT
UID:c062adf9-dc48-4858-9184-5227ff5a7a48
DTSTAMP:20260421T103138Z
CATEGORIES:Wochenendtour
CLASS:PUBLIC
DESCRIPTION:
DTSTART:20250717T093200Z
DTEND:20250720T093300Z
GEO:+52.015465;+12.992984
LOCATION:
ORGANIZER:
SEQUENCE:1
SUMMARY:Motorcycles Jamboree
TRANSP:OPAQUE
URL:https://windsisters.silkesbigpicture.de/index.php/termine/11-motorcycle
 s-jamboree
END:VEVENT
END:VCALENDAR
