BEGIN:VCALENDAR
VERSION:2.0
PRODID:-//windsister.de//NONSGML kigkonsult.se iCalcreator 2.30.10//
CALSCALE:GREGORIAN
METHOD:PUBLISH
UID:30a730ff-37cc-4189-be6b-7d4e081a456c
X-WR-CALNAME:iCagenda
X-WR-CALDESC:Event Management Extension for Joomla!
X-WR-RELCALID:3E26604A-50F4-4449-8B3E-E4F4932D05B5
X-WR-TIMEZONE:Europe/Berlin
BEGIN:VTIMEZONE
TZID:Europe/Berlin
BEGIN:STANDARD
TZNAME:CET
DTSTART:20251026T030000
TZOFFSETFROM:+0200
TZOFFSETTO:+0100
RDATE:20261025T030000
RDATE:20271031T030000
END:STANDARD
BEGIN:DAYLIGHT
TZNAME:CEST
DTSTART:20260329T020000
TZOFFSETFROM:+0100
TZOFFSETTO:+0200
RDATE:20270328T020000
END:DAYLIGHT
END:VTIMEZONE
BEGIN:VEVENT
UID:fcc1edd0-3e1f-4875-93ef-41638a812580
DTSTAMP:20260425T104423Z
CATEGORIES:Ausfahrt
CLASS:PUBLIC
DESCRIPTION:
DTSTART:20260704T074500Z
DTEND:20260704T074500Z
GEO:+52.655388;+12.754911
LOCATION:
ORGANIZER:
SEQUENCE:1
SUMMARY:Stearman & Friends 2026
TRANSP:OPAQUE
URL:https://windsisters.silkesbigpicture.de/index.php/termine/12-stearman-f
 riends-2026
END:VEVENT
END:VCALENDAR
