BEGIN:VCALENDAR
VERSION:2.0
PRODID:-//windsister.de//NONSGML kigkonsult.se iCalcreator 2.30.10//
CALSCALE:GREGORIAN
METHOD:PUBLISH
UID:d3a8d42f-4715-4ba6-a5d6-8968fd03f789
X-WR-CALNAME:iCagenda
X-WR-CALDESC:Event Management Extension for Joomla!
X-WR-RELCALID:3E26604A-50F4-4449-8B3E-E4F4932D05B5
X-WR-TIMEZONE:Europe/Berlin
BEGIN:VTIMEZONE
TZID:Europe/Berlin
BEGIN:STANDARD
TZNAME:CET
DTSTART:20231029T030000
TZOFFSETFROM:+0200
TZOFFSETTO:+0100
RDATE:20241027T030000
RDATE:20251026T030000
END:STANDARD
BEGIN:DAYLIGHT
TZNAME:CEST
DTSTART:20240331T020000
TZOFFSETFROM:+0100
TZOFFSETTO:+0200
RDATE:20250330T020000
END:DAYLIGHT
END:VTIMEZONE
BEGIN:VEVENT
UID:4939404c-4df5-47b3-a43a-87fba74e843f
DTSTAMP:20260421T115720Z
CATEGORIES:Konzert
CLASS:PUBLIC
DESCRIPTION:
DTSTART:20240622T170000Z
DTEND:20240622T214900Z
GEO:+52.566402;+13.830606
LOCATION:
ORGANIZER:
SEQUENCE:1
SUMMARY:Rock am See
TRANSP:OPAQUE
URL:https://windsisters.silkesbigpicture.de/index.php/termine/2-rock-am-see
END:VEVENT
END:VCALENDAR
