BEGIN:VCALENDAR
VERSION:2.0
PRODID:-//windsister.de//NONSGML kigkonsult.se iCalcreator 2.30.10//
CALSCALE:GREGORIAN
METHOD:PUBLISH
UID:3685792c-a91c-4cfc-8b5b-bb4e37da6956
X-WR-CALNAME:iCagenda
X-WR-CALDESC:Event Management Extension for Joomla!
X-WR-RELCALID:3E26604A-50F4-4449-8B3E-E4F4932D05B5
X-WR-TIMEZONE:Europe/Berlin
BEGIN:VTIMEZONE
TZID:Europe/Berlin
BEGIN:STANDARD
TZNAME:CET
DTSTART:20241027T030000
TZOFFSETFROM:+0200
TZOFFSETTO:+0100
RDATE:20251026T030000
RDATE:20261025T030000
END:STANDARD
BEGIN:DAYLIGHT
TZNAME:CEST
DTSTART:20250330T020000
TZOFFSETFROM:+0100
TZOFFSETTO:+0200
RDATE:20260329T020000
END:DAYLIGHT
END:VTIMEZONE
BEGIN:VEVENT
UID:493b66a7-f986-4ca5-8b17-5b23a2739416
DTSTAMP:20260423T115043Z
CATEGORIES:Konzert
CLASS:PUBLIC
DESCRIPTION:
DTSTART:20250621T081400Z
DTEND:20250621T081400Z
GEO:+52.558167;+13.830012
LOCATION:
ORGANIZER:
SEQUENCE:1
SUMMARY:Rock am See
TRANSP:OPAQUE
URL:https://windsisters.silkesbigpicture.de/index.php/termine/7-rock-am-see
 -2
END:VEVENT
END:VCALENDAR
